BEGIN:VCALENDAR
VERSION:2.0
PRODID:-//hacksw/handcal//NONSGML v1.0//EN
BEGIN:VEVENT
SUMMARY:Cours avance
UID:b2197310-cf44-4f9c-a4e4-3de3fbaadb11
DTSTART:20260330T174500Z
DTEND:20260330T194500Z
LOCATION:Localisation   
CATEGORIES:Sportif
STATUS:
DESCRIPTION:<p><span
 style="font-size:11px;"><strong>Bonjour, </strong></span></p>
 
 <p><span
 style="font-size:11px;"><strong>Nous remettons en plage des cours
 encadres perfectionnement les lundi soir 1 lundi par mois en seconde
 partie du creneau de la salle 19h45 -
 21h45. </strong></span></p>
 
 <p><span
 style="font-size:11px;"><strong>Limite a 6 personnes sur
 reservation. </strong></span></p>
 
 <p><span
 style="font-size:11px;"><strong>Travail specifique sur les
 ameliorations a apporter a sa technique de
 tir.</strong></span></p>
 
 <p><span
 style="font-size:11px;"><strong>Prevoir un carnet, un stylo et de
 l'eau. </strong></span></p>
 
 <p><span
 style="font-size:11px;"><strong>Les entraineurs</strong></span></p>
URL;VALUE=URI:https://www.archers-eragny.com/evenements/2026/03/30/cours-avance-2417027
END:VEVENT
END:VCALENDAR
